BEGIN:VCALENDAR
VERSION:2.0
PRODID:-//ChamberMaster//Event Calendar 2.0//EN
METHOD:PUBLISH
X-PUBLISHED-TTL:P3D
REFRESH-INTERVAL:P3D
CALSCALE:GREGORIAN
BEGIN:VEVENT
DTSTART:20180509T170000Z
DTEND:20180509T180000Z
X-MICROSOFT-CDO-ALLDAYEVENT:FALSE
SUMMARY:Health & Happiness Workshop
DESCRIPTION:Inspire Your Parenting\n\nHealth & Happiness Workshop
X-ALT-DESC;FMTTYPE=text/html:Inspire Your Parenting<br />\nHealth &amp\; Happiness Workshop<br />\n&nbsp\;&nbsp\;&nbsp\;&nbsp\;&nbsp\;&nbsp\;&nbsp\;&nbsp\;
LOCATION:Inspire Counseling Center 3100 Dundee Road\, Suite 101 Northbrook\, IL
UID:e.434.8747
SEQUENCE:3
DTSTAMP:20260425T135559Z
URL:http://business.glenviewchamber.com/events/details/health-happiness-workshop-8747
END:VEVENT

END:VCALENDAR
