BEGIN:VCALENDAR
VERSION:2.0
PRODID:-//ChamberMaster//Event Calendar 2.0//EN
METHOD:PUBLISH
X-PUBLISHED-TTL:P3D
REFRESH-INTERVAL:P3D
CALSCALE:GREGORIAN
BEGIN:VEVENT
DTSTART:20171018T130000Z
DTEND:20171018T143000Z
X-MICROSOFT-CDO-ALLDAYEVENT:FALSE
SUMMARY:Health & Wellness and Senior Group: Body\, Mind\, Spirit
DESCRIPTION:The Health and Wellness group is happy to partner with the Senior Services group for networking and comradery.  The program for the meeting will be "Mind/Body/Spirit".  Each topic will be addressed by a speaker that will tie in their topic to aging in a healthy way.  Sue Blue from Bluelife Coaching\, Cynthia Funai from CKF Acupuncture and Darrell Jones from Soul Gym will be our featured speakers.
X-ALT-DESC;FMTTYPE=text/html:The Health and Wellness group is happy to partner with the Senior Services group for networking and comradery.&nbsp\; The program for the meeting will be &ldquo\;Mind/Body/Spirit&rdquo\;.&nbsp\; Each topic will be addressed by a speaker that will tie in their topic to aging in a healthy way.&nbsp\; Sue Blue from Bluelife Coaching\, Cynthia Funai from CKF Acupuncture and Darrell Jones from Soul Gym will be our featured speakers. &nbsp\;
LOCATION:Glenview Chamber of Commerce 3rd Floor Conference Room 2222 Chestnut Ave.\, Glenview
UID:e.434.6843
SEQUENCE:3
DTSTAMP:20260425T225247Z
URL:http://business.glenviewchamber.com/events/details/health-wellness-and-senior-group-body-mind-spirit-6843
END:VEVENT

END:VCALENDAR
