BEGIN:VCALENDAR
VERSION:2.0
PRODID:-//ChamberMaster//Event Calendar 2.0//EN
METHOD:PUBLISH
X-PUBLISHED-TTL:P3D
REFRESH-INTERVAL:P3D
CALSCALE:GREGORIAN
BEGIN:VEVENT
DTSTART:20190228T174500Z
DTEND:20190228T190000Z
X-MICROSOFT-CDO-ALLDAYEVENT:FALSE
SUMMARY:Health & Wellness and Senior Group Networking Lunch
DESCRIPTION:Join the Health & Wellness and Senior Groups for  networking and discussion about Hormone Replacement Therapy. This will be an educational session on educating people (especially those 40 years and older) on why its beneficial.
X-ALT-DESC;FMTTYPE=text/html:<span style="font-family:times new roman\,serif\;"><span style="font-size:12.0pt\;">Join the Health &amp\; Wellness and Senior Groups for&nbsp\; networking and discussion about Hormone Replacement Therapy. This will be an educational session on educating people (especially those 40 years and older) on why its beneficial.&nbsp\;</span></span>
LOCATION:Eco Gym 2843 Pfingsten Road Glenview
UID:e.434.10054
SEQUENCE:3
DTSTAMP:20260425T035122Z
URL:http://business.glenviewchamber.com/events/details/health-wellness-and-senior-group-networking-lunch-10054
END:VEVENT

END:VCALENDAR
