BEGIN:VCALENDAR
VERSION:2.0
PRODID:-//ChamberMaster//Event Calendar 2.0//EN
METHOD:PUBLISH
X-PUBLISHED-TTL:P3D
REFRESH-INTERVAL:P3D
CALSCALE:GREGORIAN
BEGIN:VEVENT
DTSTART:20260903T170000Z
DTEND:20260903T180000Z
X-MICROSOFT-CDO-ALLDAYEVENT:FALSE
SUMMARY:Health & Wellness Group Event
DESCRIPTION:Join the Health & Wellness group for a lunch & learn event lead by CKF Acupuncture! More details to follow.
X-ALT-DESC;FMTTYPE=text/html:Join the Health &amp\; Wellness group for a lunch &amp\; learn event lead by CKF Acupuncture! More details to follow.&nbsp\;
LOCATION:
UID:e.434.11721
SEQUENCE:3
DTSTAMP:20260425T010829Z
URL:http://business.glenviewchamber.com/events/details/health-wellness-group-event-11721
END:VEVENT

END:VCALENDAR
