BEGIN:VCALENDAR
VERSION:2.0
PRODID:-//ChamberMaster//Event Calendar 2.0//EN
METHOD:PUBLISH
X-PUBLISHED-TTL:P3D
REFRESH-INTERVAL:P3D
CALSCALE:GREGORIAN
BEGIN:VEVENT
DTSTART:20180620T130000Z
DTEND:20180620T140000Z
X-MICROSOFT-CDO-ALLDAYEVENT:FALSE
SUMMARY:Health & Wellness Morning Networking
DESCRIPTION:Health & Wellness Networking Breakfast
X-ALT-DESC;FMTTYPE=text/html:Health &amp\; Wellness Networking Breakfast
LOCATION:Sweet Ali's Gluten Free Bakery 1107 Waukegan Road Glenview\, IL
UID:e.434.8727
SEQUENCE:3
DTSTAMP:20260425T135738Z
URL:http://business.glenviewchamber.com/events/details/health-wellness-morning-networking-8727
END:VEVENT

END:VCALENDAR
