BEGIN:VCALENDAR
VERSION:2.0
PRODID:-//ChamberMaster//Event Calendar 2.0//EN
METHOD:PUBLISH
X-PUBLISHED-TTL:P3D
REFRESH-INTERVAL:P3D
CALSCALE:GREGORIAN
BEGIN:VEVENT
DTSTART:20271127T220000Z
DTEND:20271128T000000Z
X-MICROSOFT-CDO-ALLDAYEVENT:FALSE
SUMMARY:Holiday in the Park & Parade
DESCRIPTION:Join us as we kick-off the holiday season with our annual Holiday in the Park & Parade!  Follow the parade down Glenview Road from Our Lady of Perpetual Help Church going west to Jackman Park.  Festivities in the park include a visit with Santa\, hay rides\, a train ride for kids\, carolers\, cookies\, hot chocolate and popcorn. Applications will become available early October. Special thanks to GVTV for making this video from the 2017 parade: https://youtu.be/Y8OZ2joGG2g\n\n \n\n Sponsors: Berkshire Hathaway HomeServices\, Busey Bank\, Northern Seasonal Services\, NorthShore University Health Systems\n\n\n\nNote: If you are participating in the parade\, please report to the OLPH parking lot at 3:30 pm.
X-ALT-DESC;FMTTYPE=text/html:<p><span style="font-family:verdana\;"><span style="font-size:16px\;">Join us as we kick-off&nbsp\;the holiday season with our annual Holiday in the Park &amp\; Parade!&nbsp\; Follow the parade down Glenview Road from Our Lady of Perpetual Help Church going west to Jackman Park.&nbsp\; Festivities in the park include a visit with Santa\, hay rides\, a train ride for kids\, carolers\, cookies\, hot chocolate and popcorn. Applications will become available early October. Special thanks to GVTV for making this video from the 2017 parade:&nbsp\;</span></span><a href="https://youtu.be/Y8OZ2joGG2g">https://youtu.be/Y8OZ2joGG2g</a></p>\n\n<p>&nbsp\;</p>\n\n<p><span style="font-size:16px\;"><span style="font-family:verdana\;">&nbsp\;Sponsors: </span></span><span style="font-family: verdana\; font-size: 16px\;">Berkshire Hathaway Home</span><span style="font-family: verdana\; font-size: 16px\;">Services\,</span><span style="font-family: verdana\; font-size: 16px\;">&nbsp\;Busey Bank\, Northern Seasonal Services\, NorthShore University Health Systems</span><br />\n<br />\n<span style="font-family: verdana"><span style="font-size: 16px"><strong>Note: If you are participating in the parade\, please report to the OLPH parking lot at 3:30 pm.</strong></span></span></p>\n
LOCATION:Jackman Park
UID:e.434.7759
SEQUENCE:3
DTSTAMP:20260425T142029Z
URL:http://business.glenviewchamber.com/events/details/holiday-in-the-park-parade-11-27-2027-7759
END:VEVENT

END:VCALENDAR
