BEGIN:VCALENDAR
VERSION:2.0
PRODID:-//ChamberMaster//Event Calendar 2.0//EN
METHOD:PUBLISH
X-PUBLISHED-TTL:P3D
REFRESH-INTERVAL:P3D
CALSCALE:GREGORIAN
BEGIN:VEVENT
DTSTART:20170622T150000Z
DTEND:20170622T200000Z
X-MICROSOFT-CDO-ALLDAYEVENT:FALSE
SUMMARY:House & Garden Walk: Chicago Lighthouse Associate Board's 31st Annual
DESCRIPTION:Please join us for our 31st Annual House & Garden Walk on Thursday\, June 22\, 2017.\n\n\n\nThe houses\, located on the north shore\, will be spectacular and the cause continues to be meaningful\, supporting programs that serve the blind\, visually impaired\, disabled and Veteran communities.\n\n\n\nWe hope you plan to attend\, volunteer or both!\n\nEvent website: http://chicagolighthouse.org/event/houseandgarden/
X-ALT-DESC;FMTTYPE=text/html:<p><span style="color:#000000"><strong><span style="font-size:16px"><var>Please join us for our&nbsp\;31st Annual House &amp\; Garden Walk on Thursday\, June 22\, 2017.<br />\n<br />\nThe houses\, located on the north shore\, will be spectacular and the cause continues to be meaningful\, supporting programs that serve the blind\, visually impaired\, disabled and Veteran communities.<br />\n<br />\nWe hope you plan to attend\, volunteer or both!<br />\nEvent website:</var></span></strong><big><span style="font-size:16px"><var> </var></span></big></span><big><span style="font-size:16px"><span style="font-family:tahoma"><a href="http://chicagolighthouse.org/event/houseandgarden/">http://chicagolighthouse.org/event/houseandgarden/</a></span></span></big><br />\n&nbsp\;</p>\n
LOCATION:Check in at Congregation Solel to pick up your program guide and house map. 1301 Clavey Road\, Highland Park\, IL 60035
UID:e.434.6252
SEQUENCE:3
DTSTAMP:20260426T042759Z
URL:http://business.glenviewchamber.com/events/details/house-garden-walk-chicago-lighthouse-associate-board-s-30th-annual-06-23-2016-6252
END:VEVENT

END:VCALENDAR
