BEGIN:VCALENDAR
VERSION:2.0
PRODID:-//ChamberMaster//Event Calendar 2.0//EN
METHOD:PUBLISH
X-PUBLISHED-TTL:P3D
REFRESH-INTERVAL:P3D
CALSCALE:GREGORIAN
BEGIN:VEVENT
DTSTART:20180505T130000Z
DTEND:20180505T200000Z
X-MICROSOFT-CDO-ALLDAYEVENT:FALSE
SUMMARY:House of Rental Garage Sale
DESCRIPTION:House of Rental Garage Sale\n\nLawn & garden equipment\, power tools\, construction equipment\, tables\, chairs\, flatware\, candelabras\, canopies\, chafing dishes\, kids chairs\, coolers\, karaoke\, pumps\, buffet items\, table linens\, coat racks\, carper runners & more.
X-ALT-DESC;FMTTYPE=text/html:House of Rental Garage Sale<br />\nLawn &amp\; garden equipment\, power tools\, construction equipment\, tables\, chairs\, flatware\, candelabras\, canopies\, chafing dishes\, kids chairs\, coolers\, karaoke\, pumps\, buffet items\, table linens\, coat racks\, carper runners &amp\; more.
LOCATION:5115 Church Street Skokie\, IL 847-677-2010
UID:e.434.8771
SEQUENCE:3
DTSTAMP:20260425T140109Z
URL:http://business.glenviewchamber.com/events/details/house-of-rental-garage-sale-8771
END:VEVENT

END:VCALENDAR
