BEGIN:VCALENDAR
VERSION:2.0
PRODID:-//ChamberMaster//Event Calendar 2.0//EN
METHOD:PUBLISH
X-PUBLISHED-TTL:P3D
REFRESH-INTERVAL:P3D
CALSCALE:GREGORIAN
BEGIN:VEVENT
DTSTART:20250425T000000Z
DTEND:20250425T010000Z
X-MICROSOFT-CDO-ALLDAYEVENT:FALSE
SUMMARY:How to Make Sure Your Kids Hate Their Sport
DESCRIPTION:In this presentation we will discuss the many traps parents fall into in an attempt to support or empower their child. With emphasis on: Goal setting\, team dynamics\, motivation\, feedback.
X-ALT-DESC;FMTTYPE=text/html:In this presentation we will discuss the many traps parents fall into in an attempt to support or empower their child. With emphasis on: Goal setting\, team dynamics\, motivation\, feedback.
LOCATION:Online
UID:e.434.11187
SEQUENCE:3
DTSTAMP:20260420T110807Z
URL:http://business.glenviewchamber.com/events/details/how-to-make-sure-your-kids-hate-their-sport-11187
END:VEVENT

END:VCALENDAR
