BEGIN:VCALENDAR
VERSION:2.0
PRODID:-//ChamberMaster//Event Calendar 2.0//EN
METHOD:PUBLISH
X-PUBLISHED-TTL:P3D
REFRESH-INTERVAL:P3D
CALSCALE:GREGORIAN
BEGIN:VEVENT
DTSTART:20241017T150000Z
DTEND:20241017T160000Z
X-MICROSOFT-CDO-ALLDAYEVENT:FALSE
SUMMARY:Illinois Paid Leave for All Workers Act Webinar
DESCRIPTION:Illinois employers must provide employees with up to 40 hours of paid leave for any reason. To learn more about the new law\, please visit the website or register for the webinar.
X-ALT-DESC;FMTTYPE=text/html:Illinois employers must provide employees with up to 40 hours of paid leave for any reason. To learn more about the new law\, please visit the website or register for the webinar.
LOCATION:https://labor.illinois.gov/laws-rules/paidleave.html
UID:e.434.11083
SEQUENCE:3
DTSTAMP:20260421T001804Z
URL:http://business.glenviewchamber.com/events/details/illinois-paid-leave-for-all-workers-act-webinar-11083
END:VEVENT

END:VCALENDAR
