BEGIN:VCALENDAR
VERSION:2.0
PRODID:-//ChamberMaster//Event Calendar 2.0//EN
METHOD:PUBLISH
X-PUBLISHED-TTL:P3D
REFRESH-INTERVAL:P3D
CALSCALE:GREGORIAN
BEGIN:VEVENT
DTSTART:20190317T120000Z
DTEND:20190317T150000Z
X-MICROSOFT-CDO-ALLDAYEVENT:FALSE
SUMMARY:Indoor Tri
DESCRIPTION:All levels welcome! Fun Family Event!\n\nA portion of the event proceeds will be donated to Juvenile Diabetes Research Foundation.
X-ALT-DESC;FMTTYPE=text/html:All levels welcome! Fun Family Event!<br />\nA portion of the event proceeds will be donated to Juvenile Diabetes Research Foundation.&nbsp\;
LOCATION:Glenview Park District 2400 Chestnut Avenue Glenview\, IL 60026
UID:e.434.10112
SEQUENCE:3
DTSTAMP:20260425T034717Z
URL:http://business.glenviewchamber.com/events/details/indoor-tri-10112
END:VEVENT

END:VCALENDAR
