BEGIN:VCALENDAR
VERSION:2.0
PRODID:-//ChamberMaster//Event Calendar 2.0//EN
METHOD:PUBLISH
X-PUBLISHED-TTL:P3D
REFRESH-INTERVAL:P3D
CALSCALE:GREGORIAN
BEGIN:VEVENT
DTSTART:20270314T150000Z
DTEND:20270314T190000Z
X-MICROSOFT-CDO-ALLDAYEVENT:FALSE
SUMMARY:Irish Connoisseur's 2nd Annual Irish Soda Bread Contest
DESCRIPTION:The Irish Connoisseur is kicking off the St. Patrick's Day celebrations with another Irish Soda Bread Contest. We had so much fun last year\, we are doing it again. Contestants can\, once again\, dust off the family recipe and SUBMIT their prize winning soda breads on Friday\, March 13th until 7 pm AT IRISH CONNOISSEUR.  The Irish Connoisseur and Kitchens and Bath Unlimited will open THEIR DOORS for a public sampling on Saturday\, March 14th AND THE community can enjoy soda breads with butter and jam and a good cup of Irish tea from 10am to 1pm.  Breads will be judged at BETWEEN 1 AND 2 PM by our panel of judges\, Ed Curran from CBS Channel 2 News\, Jim Patterson our Glenview Village President\, Denny Hebson of Schafer Condon Carter Ad Agency and two of Megan's very favorite customers\, Paul Biebel and Maureen Kliederer.\n\n\n\nWINNERS WILL RECEIVE:\n\nFirst Place will receive a $100 gift Certificate\n\nSecond Place will receive a $50 Gift Certificate\n\nThird Place will receive a $25 Gift Certificate\n\n \n\nPre-Registration is appreciated.
X-ALT-DESC;FMTTYPE=text/html:<p><strong><span style="font-family:arial\,sans-serif">The Irish Connoisseur is kicking off the St. Patrick&#39\;s Day celebrations with another Irish Soda Bread&nbsp\;Contest. We had so much fun last year\, we are doing it again. Contestants can\, once again\, dust off the family recipe and SUBMIT their&nbsp\;prize winning soda breads on Friday\, March 13<sup>th</sup>&nbsp\;until 7 pm AT IRISH CONNOISSEUR.&nbsp\; The Irish Connoisseur and&nbsp\;Kitchens and Bath Unlimited will open THEIR DOORS for a public sampling on Saturday\, March 14<sup>th</sup>&nbsp\;AND THE community can enjoy soda breads with butter and jam and a good cup of Irish tea from 10am to 1pm.&nbsp\; Breads will be judged at BETWEEN 1 AND 2 PM by our panel of judges\, Ed Curran from CBS Channel 2 News\, Jim Patterson our Glenview Village President\, Denny Hebson of Schafer Condon Carter Ad Agency and two of Megan&#39\;s very favorite customers\, Paul Biebel and Maureen Kliederer.<br />\n<br />\nWI</span></strong><strong style="line-height:1.6"><span style="font-family:arial\,sans-serif">NNERS WILL RECEIVE:</span></strong></p>\n\n<p><strong><span style="font-family:arial\,sans-serif">First Place will receive a $100 gift Certificate</span></strong></p>\n\n<p><strong><span style="font-family:arial\,sans-serif">Second Place will receive a $50 Gift Certificate</span></strong></p>\n\n<p><strong><span style="font-family:arial\,sans-serif">Third Place will receive a $25 Gift Certificate</span></strong></p>\n\n<p>&nbsp\;</p>\n\n<p><strong><span style="font-family:arial\,sans-serif">Pre-Registration is appreciated.</span></strong></p>\n\n<p>&nbsp\;</p>\n\n<p>&nbsp\;</p>\n
LOCATION:1232A & 1232B Waukegan Road\, Glenview\, IL 60025
UID:e.434.4566
SEQUENCE:3
DTSTAMP:20260425T003921Z
URL:http://business.glenviewchamber.com/events/details/irish-connoisseur-s-2nd-annual-irish-soda-bread-contest-03-14-2027-4566
END:VEVENT

END:VCALENDAR
