BEGIN:VCALENDAR
VERSION:2.0
PRODID:-//ChamberMaster//Event Calendar 2.0//EN
METHOD:PUBLISH
X-PUBLISHED-TTL:P3D
REFRESH-INTERVAL:P3D
CALSCALE:GREGORIAN
BEGIN:VEVENT
DTSTART:20170827T003000Z
DTEND:20170827T030000Z
X-MICROSOFT-CDO-ALLDAYEVENT:FALSE
SUMMARY:John Mellencamp at Ravinia
DESCRIPTION:Please join us at Ravinia Festival to see John Mellencamp on Saturday\, August 26. Gates Open at 5 p.m.\, Show Starts at 7:30 p.m. Catering at Ravinia is cost prohibitive with Levy Catering so this event will be BYOB\, food\, and blankets. Price per ticket $44 for lawn seats. We will reserve\n\na location.
X-ALT-DESC;FMTTYPE=text/html:Please join us at&nbsp\;Ravinia Festival to see John Mellencamp on Saturday\, August 26. Gates Open at 5 p.m.\, Show Starts at 7:30 p.m. Catering at Ravinia is cost prohibitive with Levy Catering so this event will be BYOB\, food\, and blankets. Price per ticket $44 for lawn seats. We will reserve<br />\n<span style="font-family:calibri\,sans-serif\;"><span style="font-size:11.0pt\;">a location.</span></span>
LOCATION:Ravinia Festival 200 Ravinia Place Highland Park
UID:e.434.7281
SEQUENCE:3
DTSTAMP:20260426T030541Z
URL:http://business.glenviewchamber.com/events/details/john-mellencamp-at-ravinia-7281
END:VEVENT

END:VCALENDAR
