BEGIN:VCALENDAR
VERSION:2.0
PRODID:-//ChamberMaster//Event Calendar 2.0//EN
METHOD:PUBLISH
X-PUBLISHED-TTL:P3D
REFRESH-INTERVAL:P3D
CALSCALE:GREGORIAN
BEGIN:VEVENT
DTSTART:20180523T223000Z
DTEND:20180524T000000Z
X-MICROSOFT-CDO-ALLDAYEVENT:FALSE
SUMMARY:Joint Senior/Healthcare Networking
DESCRIPTION:Come to a combined Senior Services and Health/Wellness after hours networking event.\n\n\n\nAs a business providing services to Senior as well as in the Health and Wellness\, gather to support each other's businesses and in turn increase the quality of services our community receives.
X-ALT-DESC;FMTTYPE=text/html:<b>Come to a combined Senior Services and Health/Wellness after hours networking event.</b><br />\n<br />\nAs a business providing&nbsp\;services to&nbsp\;Senior as well as&nbsp\;in the Health and Wellness\,&nbsp\;<span style="font-family: calibri\, sans-serif\;"><span style="font-size: 11pt\;">gather to support each other&#39\;s businesses and in turn increase the quality of services our</span></span>&nbsp\;community<span style="font-family: calibri\, sans-serif\;"><span style="font-size: 11pt\;">&nbsp\;receives.</span></span>
LOCATION:Colonial Dental Group 1775 Glenview Road - 107 Glenview\, IL
UID:e.434.8684
SEQUENCE:3
DTSTAMP:20260425T135903Z
URL:http://business.glenviewchamber.com/events/details/joint-senior-healthcare-networking-05-23-2018-8684
END:VEVENT

END:VCALENDAR
