BEGIN:VCALENDAR
VERSION:2.0
PRODID:-//ChamberMaster//Event Calendar 2.0//EN
METHOD:PUBLISH
X-PUBLISHED-TTL:P3D
REFRESH-INTERVAL:P3D
CALSCALE:GREGORIAN
BEGIN:VEVENT
DTSTART;VALUE=DATE:20180716
DTEND;VALUE=DATE:20180721
TRANSP:TRANSPARENT
X-MICROSOFT-CDO-ALLDAYEVENT:TRUE
SUMMARY:JourneyCare's Camp Courage
DESCRIPTION:9:00-3:30 Monday-Thursday\, 9:00-1:30 Friday
X-ALT-DESC;FMTTYPE=text/html:9:00-3:30 Monday-Thursday\, 9:00-1:30 Friday
LOCATION:
UID:e.434.9799
SEQUENCE:3
DTSTAMP:20260425T112107Z
URL:http://business.glenviewchamber.com/events/details/journeycare-s-camp-courage-9799
END:VEVENT

END:VCALENDAR
