BEGIN:VCALENDAR
VERSION:2.0
PRODID:-//ChamberMaster//Event Calendar 2.0//EN
METHOD:PUBLISH
X-PUBLISHED-TTL:P3D
REFRESH-INTERVAL:P3D
CALSCALE:GREGORIAN
BEGIN:VEVENT
DTSTART:20251017T160000Z
DTEND:20251017T190000Z
X-MICROSOFT-CDO-ALLDAYEVENT:FALSE
SUMMARY:Kicks for a Cause
DESCRIPTION:Kicks for a Cause: Champions in Training Fundraiser\n\nWing Tsun Martial Arts is proud to partner with District 34 for a one-of-a-kind fundraising event that combines fun\, fitness\, and community support!\n\nDate: Friday\, October 17\n\nLocation: Wing Tsun Martial Arts-1724 Milwaukee Ave\, Glenview IL 60025\n\nEntry Fee: $20 per child\n\n\nEvent Overview\n\nKids will step into the world of martial arts through an engaging\, high-energy class designed just for them. They'll build strength\, focus\, and confidence while having fun with:\n\nInteractive games & teamwork activities\n\nExciting martial arts drills\n\nConfidence-boosting self-defense training\n\nA positive and supportive environment\n\nNo prior experience is required   this event is open to all kids ages 4 12!
X-ALT-DESC;FMTTYPE=text/html:<h2 data-end="295" data-start="232" style="margin: 10px 0px\; font-family: &quot\;Helvetica Neue&quot\;\, Helvetica\, Arial\, sans-serif\; line-height: 40px\; color: rgb(0\, 0\, 0)\; text-rendering: optimizelegibility\; font-size: 21px\;"><strong data-end="293" data-start="238" style="font-weight: bold\;">Kicks for a Cause: Champions in Training Fundraiser</strong></h2>\n\n<p data-end="459" data-start="297" style="margin: 0px 0px 10px\; color: rgb(0\, 0\, 0)\; font-family: &quot\;Helvetica Neue&quot\;\, Helvetica\, Arial\, sans-serif\; font-size: 14px\;">Wing Tsun Martial Arts is proud to partner with&nbsp\;<strong data-end="360" data-start="345" style="font-weight: bold\;">District 34</strong>&nbsp\;for a one-of-a-kind&nbsp\;<strong data-end="402" data-start="381" style="font-weight: bold\;">fundraising event</strong>&nbsp\;that combines&nbsp\;<strong data-end="457" data-start="417" style="font-weight: bold\;">fun\, fitness\, and community support!</strong></p>\n\n<p data-end="565" data-start="461" style="margin: 0px 0px 10px\; color: rgb(0\, 0\, 0)\; font-family: &quot\;Helvetica Neue&quot\;\, Helvetica\, Arial\, sans-serif\; font-size: 14px\;"><strong data-end="473" data-start="464" style="font-weight: bold\;">Date:</strong>&nbsp\;Friday\, October 17<br data-end="495" data-start="492" />\n<strong data-end="511" data-start="498" style="font-weight: bold\;">Location:</strong>&nbsp\;Wing Tsun Martial Arts-1724 Milwaukee Ave\, Glenview IL 60025<br data-end="532" data-start="529" />\n<strong data-end="549" data-start="535" style="font-weight: bold\;">E</strong><strong data-end="549" data-start="535" style="color: rgb(0\, 0\, 0)\; font-family: &quot\;Helvetica Neue&quot\;\, Helvetica\, Arial\, sans-serif\; font-size: 14px\; font-weight: bold\;">ntry Fee:</strong><span style="color: rgb(0\, 0\, 0)\; font-family: &quot\;Helvetica Neue&quot\;\, Helvetica\, Arial\, sans-serif\; font-size: 14px\;">&nbsp\;$20 per child</span></p>\n\n<hr data-end="570" data-start="567" style="border-bottom: 1px solid rgb(255\, 255\, 255)\; border-top-color: rgb(238\, 238\, 238)\; margin: 20px 0px\; color: rgb(0\, 0\, 0)\; font-family: &quot\;Helvetica Neue&quot\;\, Helvetica\, Arial\, sans-serif\; font-size: 14px\;" />\n<p data-end="565" data-start="461" style="margin: 0px 0px 10px\; color: rgb(0\, 0\, 0)\; font-family: &quot\;Helvetica Neue&quot\;\, Helvetica\, Arial\, sans-serif\; font-size: 14px\;"><span style="font-size: 21px\;">Event Overview</span></p>\n\n<p data-end="774" data-start="595" style="margin: 0px 0px 10px\; color: rgb(0\, 0\, 0)\; font-family: &quot\;Helvetica Neue&quot\;\, Helvetica\, Arial\, sans-serif\; font-size: 14px\;">Kids will step into the world of martial arts through an engaging\, high-energy class designed just for them. They&rsquo\;ll build strength\, focus\, and confidence while having fun with:</p>\n\n<p data-end="940" data-start="776" style="margin: 0px 0px 10px\; color: rgb(0\, 0\, 0)\; font-family: &quot\;Helvetica Neue&quot\;\, Helvetica\, Arial\, sans-serif\; font-size: 14px\;">Interactive games &amp\; teamwork activities<br data-end="820" data-start="817" />\nExciting martial arts drills<br data-end="853" data-start="850" />\nConfidence-boosting self-defense training<br data-end="899" data-start="896" />\nA positive and supportive environment</p>\n\n<p data-end="1019" data-start="942" style="margin: 0px 0px 10px\; color: rgb(0\, 0\, 0)\; font-family: &quot\;Helvetica Neue&quot\;\, Helvetica\, Arial\, sans-serif\; font-size: 14px\;">No prior experience is required &mdash\; this event is open to all kids ages 4&ndash\;12!</p>\n
LOCATION:Wing Tsun Martial Arts 1724 N Milwaukee Glenview\, Illinois 60025 US
UID:e.434.11511
SEQUENCE:3
DTSTAMP:20260420T060556Z
URL:http://business.glenviewchamber.com/events/details/kicks-for-a-cause-11511
END:VEVENT

END:VCALENDAR
