BEGIN:VCALENDAR
VERSION:2.0
PRODID:-//ChamberMaster//Event Calendar 2.0//EN
METHOD:PUBLISH
X-PUBLISHED-TTL:P3D
REFRESH-INTERVAL:P3D
CALSCALE:GREGORIAN
BEGIN:VEVENT
DTSTART:20260201T180000Z
DTEND:20260201T200000Z
X-MICROSOFT-CDO-ALLDAYEVENT:FALSE
SUMMARY:Kidpalooza
DESCRIPTION:Free Family Event   Open to the Community! Designed to provide an afternoon of fun\, creativity\, and community for families of all backgrounds. Families can explore a variety of hands-on activities and entertainment\, all while learning about the many programs and services the YMCA offers. Kidpalooza is an opportunity to connect with our community and experience what makes the Y such a special place for families.
X-ALT-DESC;FMTTYPE=text/html:Free Family Event &mdash\; Open to the Community! Designed to provide an afternoon of fun\, creativity\, and community for families of all backgrounds. Families can explore a variety of hands-on activities and entertainment\, all while learning about the many programs and services the YMCA offers. Kidpalooza is an opportunity to connect with our community and experience what makes the Y such a special place for families.
LOCATION:2705 Techny Rd\, Northbrook\, IL\, 60062
UID:e.434.11549
SEQUENCE:3
DTSTAMP:20260425T112102Z
URL:http://business.glenviewchamber.com/events/details/kidpalooza-11549
END:VEVENT

END:VCALENDAR
