BEGIN:VCALENDAR
VERSION:2.0
PRODID:-//ChamberMaster//Event Calendar 2.0//EN
METHOD:PUBLISH
X-PUBLISHED-TTL:P3D
REFRESH-INTERVAL:P3D
CALSCALE:GREGORIAN
BEGIN:VEVENT
DTSTART:20251023T221500Z
DTEND:20251023T234500Z
X-MICROSOFT-CDO-ALLDAYEVENT:FALSE
SUMMARY:Kim’s Crafting: Halloween Tote Bag
DESCRIPTION:Participants will draw or color their own designs to then be sublimated onto their bags. (Grades K-6th)
X-ALT-DESC;FMTTYPE=text/html:Participants will draw or color their own designs to then be sublimated onto their bags. (Grades K-6th)
LOCATION:North Suburban YMCA 2705 Techny Rd. Northbrook. IL 60062
UID:e.434.11247
SEQUENCE:3
DTSTAMP:20260420T060841Z
URL:http://business.glenviewchamber.com/events/details/kim-s-crafting-halloween-tote-bag-11247
END:VEVENT

END:VCALENDAR
