BEGIN:VCALENDAR
VERSION:2.0
PRODID:-//ChamberMaster//Event Calendar 2.0//EN
METHOD:PUBLISH
X-PUBLISHED-TTL:P3D
REFRESH-INTERVAL:P3D
CALSCALE:GREGORIAN
BEGIN:VEVENT
DTSTART:20191027T230000Z
DTEND:20191028T010000Z
X-MICROSOFT-CDO-ALLDAYEVENT:FALSE
SUMMARY:Knights of Columbus 26th Annual Pizza Fest
DESCRIPTION:Pizza Tasting Contest\n\nCast your vote for your Favorite Pizzeria\n\nAll are Welcome! Please come to taste\, eat\, & judge\n\nWe will award certificates to the Winners\n\nDoor Prizes for Children\n\nCostumes Welcome\n\nFor information call (847) 729-3646\n\nThis is the place to taste the Greatest Pizzas in the Glenview Area\n\nComplementary Coffee and Dessert - Cash Bar - Games and Face Painting for children\n\nFor Information call: (847) 729-3646\n\nMember\, Glenview Chamber of Commerce
X-ALT-DESC;FMTTYPE=text/html:<p>Pizza Tasting Contest<br />\nCast your vote for your Favorite Pizzeria</p>\n\n<p>All are Welcome! Please come to taste\, eat\, &amp\; judge<br />\nWe will award certificates to the Winners</p>\n\n<p>Door Prizes for Children<br />\nCostumes Welcome<br />\nFor information call (847) 729-3646</p>\n\n<p>This is the place to taste the Greatest Pizzas in the Glenview Area<br />\nComplementary Coffee and Dessert - Cash Bar - Games and Face Painting for children</p>\n\n<p>For Information call: (847) 729-3646<br />\nMember\, Glenview Chamber of Commerce</p>\n
LOCATION:Marian Hall (Gymnasium) St. Catherine Laboure Church 3535 Thornwood Glenview\, Illinois
UID:e.434.10270
SEQUENCE:3
DTSTAMP:20260424T165241Z
URL:http://business.glenviewchamber.com/events/details/knights-of-columbus-26th-annual-pizza-fest-10270
END:VEVENT

END:VCALENDAR
