BEGIN:VCALENDAR
VERSION:2.0
PRODID:-//ChamberMaster//Event Calendar 2.0//EN
METHOD:PUBLISH
X-PUBLISHED-TTL:P3D
REFRESH-INTERVAL:P3D
CALSCALE:GREGORIAN
BEGIN:VEVENT
DTSTART:20170829T220000Z
DTEND:20170830T010000Z
X-MICROSOFT-CDO-ALLDAYEVENT:FALSE
SUMMARY:Ladies' Night in Glenview! Shopping! Raffles! Refreshments! Free Chair Massage!
DESCRIPTION:Ladies' Night in Glenview! Shopping! Raffles! Refreshments! Free Chair Massage!\n\nFREE chair massages provided by React Sprint & Sports Rehab.
X-ALT-DESC;FMTTYPE=text/html:Ladies&#39\; Night in Glenview! Shopping! Raffles! Refreshments! Free Chair Massage!<br />\nFREE chair massages provided by React Sprint &amp\; Sports Rehab.&nbsp\;
LOCATION:Renewal by Andersen 2300 Ridge Drive Glenview\, IL 60025
UID:e.434.7272
SEQUENCE:3
DTSTAMP:20260426T014606Z
URL:http://business.glenviewchamber.com/events/details/ladies-night-in-glenview-shopping-raffles-refreshments-free-chair-massage-7272
END:VEVENT

END:VCALENDAR
