BEGIN:VCALENDAR
VERSION:2.0
PRODID:-//ChamberMaster//Event Calendar 2.0//EN
METHOD:PUBLISH
X-PUBLISHED-TTL:P3D
REFRESH-INTERVAL:P3D
CALSCALE:GREGORIAN
BEGIN:VEVENT
DTSTART:20251014T213000Z
DTEND:20251014T223000Z
X-MICROSOFT-CDO-ALLDAYEVENT:FALSE
SUMMARY:Laughter Yoga
DESCRIPTION:In this playful and energetic Yoga session\, children will explore the joy of laughter through exciting activities that blend deep breathing\, playful movements\, and silly laughter exercises. This workshop is designed to boost happiness\, reduce stress\, and build confidence. (Grades 3-5)
X-ALT-DESC;FMTTYPE=text/html:In this playful and energetic Yoga session\, children will explore the joy of laughter through exciting activities that blend deep breathing\, playful movements\, and silly laughter exercises. This workshop is designed to boost happiness\, reduce stress\, and build confidence. (Grades 3-5)
LOCATION:North Suburban YMCA 2705 Techny Rd. Northbrook. IL 60062
UID:e.434.11255
SEQUENCE:3
DTSTAMP:20260420T060730Z
URL:http://business.glenviewchamber.com/events/details/laughter-yoga-10-14-2025-11255
END:VEVENT

END:VCALENDAR
