BEGIN:VCALENDAR
VERSION:2.0
PRODID:-//ChamberMaster//Event Calendar 2.0//EN
METHOD:PUBLISH
X-PUBLISHED-TTL:P3D
REFRESH-INTERVAL:P3D
CALSCALE:GREGORIAN
BEGIN:VEVENT
DTSTART:20190118T140000Z
DTEND:20190118T180000Z
X-MICROSOFT-CDO-ALLDAYEVENT:FALSE
SUMMARY:Leadership Glenview
DESCRIPTION:Leadership Glenview\n\nSession IV:  Public Safety Services
X-ALT-DESC;FMTTYPE=text/html:<span style="font-size:14px\;">Leadership Glenview<br />\nSession IV:&nbsp\; Public Safety Services</span>
LOCATION:8:15 am - Refreshments\, Appleyard Training Room\, Glenview Village Hall\, 2500 E. Lake Avenue\, Glenview\, IL 8:30 am - 11:30 am Appleyard Training Room\, Glenview Village Hall\, 2500 E. Lake Avenue\, Glenview\, IL 11:30 12:00 pm Transit to Fire Station 6 (1215 Waukegan Road\, Glenview\, IL 60025)
UID:e.434.10035
SEQUENCE:3
DTSTAMP:20260425T034744Z
URL:http://business.glenviewchamber.com/events/details/leadership-glenview-10035
END:VEVENT

END:VCALENDAR
