BEGIN:VCALENDAR
VERSION:2.0
PRODID:-//ChamberMaster//Event Calendar 2.0//EN
METHOD:PUBLISH
X-PUBLISHED-TTL:P3D
REFRESH-INTERVAL:P3D
CALSCALE:GREGORIAN
BEGIN:VEVENT
DTSTART:20190215T140000Z
DTEND:20190215T180000Z
X-MICROSOFT-CDO-ALLDAYEVENT:FALSE
SUMMARY:Leadership Glenview
DESCRIPTION:Session V: Service and Service Clubs\n\nYouth Services of Glenview & Northbrook
X-ALT-DESC;FMTTYPE=text/html:Session V: Service and Service Clubs<br />\nYouth Services of Glenview &amp\; Northbrook
LOCATION:8:15 - 11:15 am Youth Services of Glenview & Northbrook 3080 W. Lake Avenue Glenview 11:30 - 11:45 am Transit to Northfield Township Food Pantry 11:45 - 12:30 Tour of Northfield Township Food Pantry
UID:e.434.10042
SEQUENCE:3
DTSTAMP:20260425T034745Z
URL:http://business.glenviewchamber.com/events/details/leadership-glenview-10042
END:VEVENT

END:VCALENDAR
