BEGIN:VCALENDAR
VERSION:2.0
PRODID:-//ChamberMaster//Event Calendar 2.0//EN
METHOD:PUBLISH
X-PUBLISHED-TTL:P3D
REFRESH-INTERVAL:P3D
CALSCALE:GREGORIAN
BEGIN:VEVENT
DTSTART:20190906T130000Z
DTEND:20190906T170000Z
X-MICROSOFT-CDO-ALLDAYEVENT:FALSE
SUMMARY:Leadership Glenview
DESCRIPTION:Leadership Glenview
X-ALT-DESC;FMTTYPE=text/html:Leadership Glenview
LOCATION:NIPSTA 2300 Patriot Blvd. Glenview\, IL
UID:e.434.10175
SEQUENCE:3
DTSTAMP:20260423T043041Z
URL:http://business.glenviewchamber.com/events/details/leadership-glenview-10175
END:VEVENT

END:VCALENDAR
