BEGIN:VCALENDAR
VERSION:2.0
PRODID:-//ChamberMaster//Event Calendar 2.0//EN
METHOD:PUBLISH
X-PUBLISHED-TTL:P3D
REFRESH-INTERVAL:P3D
CALSCALE:GREGORIAN
BEGIN:VEVENT
DTSTART;VALUE=DATE:20180808
DTEND;VALUE=DATE:20180809
TRANSP:TRANSPARENT
X-MICROSOFT-CDO-ALLDAYEVENT:TRUE
SUMMARY:Leadership Glenview Application Deadline
DESCRIPTION:Designed to inform and inspire new leaders in the community\, Leadership Glenview is a dynamic eight-month program that meets monthly\, starting on September 21st.\n\n\n\nSelected participants will learn about the Village\, connect with like-minded leaders\, and gain team-building skills\, while preparing to contribute to improving Glenview's future. A must for corporate communicators\, nonprofit managers\, and motivated citizens with a strong interest in Village and an eye for great ideas.\n\n\n\nTake the first step toward a stronger Glenview by applying for a seat in this annual workshop. The maximum class size is 20 participants. Complete the application\, then return it by August 8 by fax or scan. \n\n\n\nClick here for the application.
X-ALT-DESC;FMTTYPE=text/html:Designed to inform and inspire new leaders in the community\, Leadership Glenview is a dynamic eight-month program that meets monthly\, starting on September 21st.<br />\n<br />\nSelected participants will learn about the Village\, connect with like-minded leaders\, and gain team-building skills\, while preparing to contribute to improving Glenview&rsquo\;s future. A must for corporate communicators\, nonprofit managers\, and motivated citizens with a strong interest in Village and an eye for great ideas.<br />\n<br />\nTake the first step toward a stronger Glenview by applying for a seat in this annual workshop. The maximum class size is 20 participants. Complete the application\, then return it by August 8 by fax or scan.&nbsp\;<br />\n<br />\n<a href="https://chambermaster.blob.core.windows.net/userfiles/UserFiles/chambers/434/File/LeadershipApplication2pgsFillableForm.pdf">Click here for the application.&nbsp\;</a>
LOCATION:
UID:e.434.9803
SEQUENCE:3
DTSTAMP:20260425T111934Z
URL:http://business.glenviewchamber.com/events/details/leadership-glenview-application-deadline-9803
END:VEVENT

END:VCALENDAR
