BEGIN:VCALENDAR
VERSION:2.0
PRODID:-//ChamberMaster//Event Calendar 2.0//EN
METHOD:PUBLISH
X-PUBLISHED-TTL:P3D
REFRESH-INTERVAL:P3D
CALSCALE:GREGORIAN
BEGIN:VEVENT
DTSTART;VALUE=DATE:20180313
DTEND;VALUE=DATE:20180314
TRANSP:TRANSPARENT
X-MICROSOFT-CDO-ALLDAYEVENT:TRUE
SUMMARY:Legendary Rivers Sale Cruise Night
DESCRIPTION:Whether it's booking a flight with enough leg room\, planning an onshore adventure in port\, booking an all-inclusive resort package or finding the perfect pre-cruise hotel\, we are your full service travel agency & one stop shop for a worry-free vacation. Exclusive promotions & concierge service at Expedia prices!
X-ALT-DESC;FMTTYPE=text/html:Whether it&#39\;s booking a flight with enough leg room\, planning an onshore adventure in port\, booking an all-inclusive resort package or finding the perfect pre-cruise hotel\, we are your full service travel agency &amp\; one stop shop for a worry-free vacation. Exclusive promotions &amp\; concierge&nbsp\;service at Expedia prices!
LOCATION:1434 Waukegan Road Glenview
UID:e.434.8749
SEQUENCE:3
DTSTAMP:20260425T163657Z
URL:http://business.glenviewchamber.com/events/details/legendary-rivers-sale-cruise-night-8749
END:VEVENT

END:VCALENDAR
