BEGIN:VCALENDAR
VERSION:2.0
PRODID:-//ChamberMaster//Event Calendar 2.0//EN
METHOD:PUBLISH
X-PUBLISHED-TTL:P3D
REFRESH-INTERVAL:P3D
CALSCALE:GREGORIAN
BEGIN:VEVENT
DTSTART:20180320T164500Z
DTEND:20180320T181500Z
X-MICROSOFT-CDO-ALLDAYEVENT:FALSE
SUMMARY:Lunch & Learn
DESCRIPTION:Betsy Baer and Meghan Kearney will walk us through many of the networking\, marketing\, promotion and program opportunities the Chamber has waiting for you!  Spend an hour and half with us and gain a wealth of information to answer the question ?what does the Chamber do for me??
X-ALT-DESC;FMTTYPE=text/html:<span style="font-family:calibri\,sans-serif\;"><span style="font-size:11.0pt\;">Betsy Baer and Meghan Kearney will walk us through many of the networking\, marketing\, promotion and program opportunities the Chamber has waiting for you!&nbsp\; Spend an hour and half with us and gain a wealth of information to answer the question ?what does the Chamber do for me??</span></span>
LOCATION:Hosted by: Glenview Chamber Topic: Chamber 101 Location: 2222 Chestnut Avenue\, 3rd Floor Conference Room
UID:e.434.8063
SEQUENCE:3
DTSTAMP:20260425T162717Z
URL:http://business.glenviewchamber.com/events/details/lunch-learn-03-20-2018-8063
END:VEVENT

END:VCALENDAR
