BEGIN:VCALENDAR
VERSION:2.0
PRODID:-//ChamberMaster//Event Calendar 2.0//EN
METHOD:PUBLISH
X-PUBLISHED-TTL:P3D
REFRESH-INTERVAL:P3D
CALSCALE:GREGORIAN
BEGIN:VEVENT
DTSTART:20180717T164500Z
DTEND:20180717T181500Z
X-MICROSOFT-CDO-ALLDAYEVENT:FALSE
SUMMARY:Lunch & Learn
DESCRIPTION:Planning a remodel?  Learn the best approach for success from the experts at Glenbrook Remodeling. The Lunch and Learn Series will be conducted by local business experts\, Chamber board members and our Chamber partners. The series will feature a wide variety of topics that are helpful for anyone involved with a business\, from owners and managers to entry-level employees.
X-ALT-DESC;FMTTYPE=text/html:<span style="font-family: 'Helvetica Neue'\, Helvetica\, Arial\, sans-serif\; font-size: 14px\; line-height: 24px\;">Planning a remodel?&nbsp\; Learn the best approach for success from the experts at Glenbrook Remodeling. The Lunch and Learn Series will be conducted by local business experts\, Chamber board members and our Chamber partners. The series will feature a wide variety of topics that are helpful for anyone involved with a business\, from owners and managers to entry-level employees.&nbsp\;</span>
LOCATION:Host: Glenbrook Remodeling Topic: Transitioning Your Home to Thrive in Place Location: 450 Glenview Rd. (corner of Glenview and Harms Rds)
UID:e.434.8065
SEQUENCE:3
DTSTAMP:20260425T112019Z
URL:http://business.glenviewchamber.com/events/details/lunch-learn-07-17-2018-8065
END:VEVENT

END:VCALENDAR
