BEGIN:VCALENDAR
VERSION:2.0
PRODID:-//ChamberMaster//Event Calendar 2.0//EN
METHOD:PUBLISH
X-PUBLISHED-TTL:P3D
REFRESH-INTERVAL:P3D
CALSCALE:GREGORIAN
BEGIN:VEVENT
DTSTART:20170718T164500Z
DTEND:20170718T181500Z
X-MICROSOFT-CDO-ALLDAYEVENT:FALSE
SUMMARY:Lunch & Learn
DESCRIPTION:Topic:  Self Defense
X-ALT-DESC;FMTTYPE=text/html:<p><em><span style="color:#76923C\;"><span style="font-family:arial\,sans-serif\;"><span style="font-size:14.0pt\;">Topic: &nbsp\;Self Defense</span></span></span></em></p>\n
LOCATION:Reactive Performance Enhancement Center 1725 Chestnut Ave.
UID:e.434.6795
SEQUENCE:3
DTSTAMP:20260426T030239Z
URL:http://business.glenviewchamber.com/events/details/lunch-learn-07-18-2017-6795
END:VEVENT

END:VCALENDAR
