BEGIN:VCALENDAR
VERSION:2.0
PRODID:-//ChamberMaster//Event Calendar 2.0//EN
METHOD:PUBLISH
X-PUBLISHED-TTL:P3D
REFRESH-INTERVAL:P3D
CALSCALE:GREGORIAN
BEGIN:VEVENT
DTSTART:20191029T164500Z
DTEND:20191029T181500Z
X-MICROSOFT-CDO-ALLDAYEVENT:FALSE
SUMMARY:Lunch & Learn
DESCRIPTION:Learn 30 ways to grow your contact list. Capture new contacts\, widen your reach\, and propel your business forward. Take advantage of resources available through the Glenview Public Library to target new customers\, look for sales leads\, and research competition. Co-hosted by Glenview Chamber\, Glenview Public Library\, and SCORE. Presented by Norbert Barsczewski\, President of JP NetQuest\, Inc and Claire McCully\, Business Librarian at Glenview Public Library. Lunch provided.\n\n\n\nREGISTRATION REQUIRED through SCORE  at: http://events.r20.constantcontact.com/register/event?oeidk=a07egk71iucfa408857&llr=6lcdow6ab
X-ALT-DESC;FMTTYPE=text/html:Learn 30 ways to grow your contact list. Capture new contacts\, widen your reach\, and propel your business forward. Take advantage of resources available through the Glenview Public Library to target new customers\, look for sales leads\, and research competition. Co-hosted by Glenview Chamber\, Glenview Public Library\, and SCORE. Presented by Norbert Barsczewski\, President of JP NetQuest\, Inc and Claire McCully\, Business Librarian at Glenview Public Library. Lunch provided.<br />\n<br />\nREGISTRATION REQUIRED through SCORE&reg\; at: <a href="http://events.r20.constantcontact.com/register/event?oeidk=a07egk71iucfa408857&amp\;llr=6lcdow6ab">http://events.r20.constantcontact.com/register/event?oeidk=a07egk71iucfa408857&amp\;llr=6lcdow6ab</a>
LOCATION:Glenview Public Library 1930 Glenview Road Glenview\, IL Multipurpose Room
UID:e.434.10244
SEQUENCE:3
DTSTAMP:20260424T162819Z
URL:http://business.glenviewchamber.com/events/details/lunch-learn-10244
END:VEVENT

END:VCALENDAR
