BEGIN:VCALENDAR
VERSION:2.0
PRODID:-//ChamberMaster//Event Calendar 2.0//EN
METHOD:PUBLISH
X-PUBLISHED-TTL:P3D
REFRESH-INTERVAL:P3D
CALSCALE:GREGORIAN
BEGIN:VEVENT
DTSTART:20171121T174500Z
DTEND:20171121T191500Z
X-MICROSOFT-CDO-ALLDAYEVENT:FALSE
SUMMARY:Lunch & Learn
DESCRIPTION:Topic: 6 Steps to Help Secure your Retirement\n\nLynch McPeek Wealth Management co-founders and lifetime Glenview residents\, Ralph D. Lynch\, Jr.\, Executive Vice President and Director and Maureen L. McPeek\, Executive Vice President and Manager Director\, will lead a discussion on the important issues surrounding retirement planning. Maureen & Ralph's practice dates back to 1964 when their father Ralph Lynch\, Sr. started his wealth management practice.  For over 50 years\, Lynch McPeek Wealth Management associated with Wells Fargo Advisors Financial Network\, LLC\, and its professionally designated employees have continued the tradition of providing comprehensive financial advice to generations of families and business owners not only here in Glenview\, but across the country.  Join other Chamber members for an intimate discussion and gain fresh insights into what it takes to build and maintain a successful retirement.
X-ALT-DESC;FMTTYPE=text/html:<p><span style="font-size:14px\;"><strong>Topic: 6 Steps to Help Secure your Retirement</strong></span><br />\nLynch McPeek Wealth Management co-founders and lifetime Glenview residents\, Ralph D. Lynch\, Jr.\, Executive Vice President and Director and Maureen L. McPeek\, Executive Vice President and Manager Director\, will lead a discussion on the important issues surrounding retirement planning. Maureen &amp\; Ralph&rsquo\;s practice dates back to 1964 when their father Ralph Lynch\, Sr. started his wealth management practice. &nbsp\;For over 50 years\, Lynch McPeek Wealth Management associated with Wells Fargo Advisors Financial Network\, LLC\, and its professionally designated employees have continued the tradition of providing comprehensive financial advice to generations of families and business owners not only here in Glenview\, but across the country. &nbsp\;Join other Chamber members for an intimate discussion and gain fresh insights into what it takes to build and maintain a successful retirement.&nbsp\;</p>\n
LOCATION:Glenview Park Center 2400 Chestnut Ave.\, Room 205
UID:e.434.6797
SEQUENCE:3
DTSTAMP:20260425T213548Z
URL:http://business.glenviewchamber.com/events/details/lunch-learn-11-21-2017-6797
END:VEVENT

END:VCALENDAR
