BEGIN:VCALENDAR
VERSION:2.0
PRODID:-//ChamberMaster//Event Calendar 2.0//EN
METHOD:PUBLISH
X-PUBLISHED-TTL:P3D
REFRESH-INTERVAL:P3D
CALSCALE:GREGORIAN
BEGIN:VEVENT
DTSTART:20180116T174500Z
DTEND:20180116T191500Z
X-MICROSOFT-CDO-ALLDAYEVENT:FALSE
SUMMARY:Lunch & Learn
DESCRIPTION:The Lunch and Learn Series will be conducted by local business experts\, Chamber board members and our Chamber partners. The series will feature a wide variety of topics that are helpful for anyone involved with a business\, from owners and managers to entry-level employees.
X-ALT-DESC;FMTTYPE=text/html:<span style="font-family: 'Helvetica Neue'\, Helvetica\, Arial\, sans-serif\; font-size: 14px\; line-height: 24px\;">The Lunch and Learn Series will be conducted by local business experts\, Chamber board members and our Chamber partners. The series will feature a wide variety of topics that are helpful for anyone involved with a business\, from owners and managers to entry-level employees.&nbsp\;</span>
LOCATION:Topic: Self Defense Location: Fonseca Martial Arts\, 1976 Tower Drive\, Glenview
UID:e.434.7403
SEQUENCE:3
DTSTAMP:20260425T190143Z
URL:http://business.glenviewchamber.com/events/details/lunch-learn-7403
END:VEVENT

END:VCALENDAR
