BEGIN:VCALENDAR
VERSION:2.0
PRODID:-//ChamberMaster//Event Calendar 2.0//EN
METHOD:PUBLISH
X-PUBLISHED-TTL:P3D
REFRESH-INTERVAL:P3D
CALSCALE:GREGORIAN
BEGIN:VEVENT
DTSTART:20180515T164500Z
DTEND:20180515T181500Z
X-MICROSOFT-CDO-ALLDAYEVENT:FALSE
SUMMARY:Lunch & Learn
DESCRIPTION:The Lunch and Learn Series will be conducted by local business experts\, Chamber board members and our Chamber partners. The series will feature a wide variety of topics that are helpful for anyone involved with a business\, from owners and managers to entry-level employees. This is a free event for Chamber members. \n\n\n\nHTML Global will show you how to get your business on Google and in the Cloud. HTML is a consultancy offering companies of all sizes solutions for business technology services\, web design and digital marketing. They will provide solutions not just for your company's infrastructure\, but also for your digital presence and brand. They will review the tools available in the cloud to market your business. \n\n\n\nAttendee Value and Takeaways:\n\nUnderstand Cloud based productivity\n\nKnow how to use G Suite\n\nGain knowledge and insight about digital marketing basics
X-ALT-DESC;FMTTYPE=text/html:<p><span style="font-family: 'Helvetica Neue'\, Helvetica\, Arial\, sans-serif\; font-size: 14px\; line-height: 24px\;">The Lunch and Learn Series will be conducted by local business experts\, Chamber board members and our Chamber partners. The series will feature a wide variety of topics that are helpful for anyone involved with a business\, from owners and managers to entry-level employees. This is a free event for Chamber members.&nbsp\;<br />\n<br />\nHTML Global will show you how to get your business on Google and in the Cloud. HTML is a consultancy offering companies of all sizes solutions for business technology services\, web design and digital marketing. They will provide solutions not just for your company&#39\;s infrastructure\, but also for your digital presence and brand. They will review the tools available in the cloud to market your business.&nbsp\;<br />\n<br />\nAttendee Value and Takeaways:<br />\nUnderstand Cloud based productivity<br />\nKnow how to use G Suite<br />\nGain knowledge and insight about digital marketing basics</span><br />\n&nbsp\;</p>\n
LOCATION:Glenview Chamber of Commerce 2222 Chestnut Ave.\, 3rd Floor Conference Room Host: HTML Global Topic: Digital Marketing
UID:e.434.8769
SEQUENCE:3
DTSTAMP:20260425T135312Z
URL:http://business.glenviewchamber.com/events/details/lunch-learn-8769
END:VEVENT

END:VCALENDAR
