BEGIN:VCALENDAR
VERSION:2.0
PRODID:-//ChamberMaster//Event Calendar 2.0//EN
METHOD:PUBLISH
X-PUBLISHED-TTL:P3D
REFRESH-INTERVAL:P3D
CALSCALE:GREGORIAN
BEGIN:VEVENT
DTSTART:20190219T174500Z
DTEND:20190219T191500Z
X-MICROSOFT-CDO-ALLDAYEVENT:FALSE
SUMMARY:Lunch & Learn - How Your Business Can Prepare for Cook County Minimum Wage & Sick Leave Ordinances
DESCRIPTION:On February 7\, 2019\, the Village Trustees voted to opt back into the Cook County Minimum Wage and Sick Leave Ordinances\, effective July 1\, 2019.  The Ordinances will apply to all Glenview businesses that employ at least one covered employee\, and to help its members understand the implications of the opt-in vote and also prepare for the July 1\, 2019 effective date\, the Chamber is hosting a lunch and learn on February 19\, 2019.  Matthew Brown from Jackson Lewis P.C. will discuss the requirements of these Ordinances and how your businesses can best prepare to comply with them.  The presentation is meant for all Chamber members.  Attorney participants will also receive CLE credit.  Lunch will be provided.
X-ALT-DESC;FMTTYPE=text/html:On February 7\, 2019\, the Village Trustees voted to opt back into the Cook County Minimum Wage and Sick Leave Ordinances\, effective July 1\, 2019.&nbsp\; The Ordinances will apply to all Glenview businesses that employ at least one covered employee\, and to help its members understand the implications of the opt-in vote and also prepare for the July 1\, 2019 effective date\, the Chamber is hosting a lunch and learn on February 19\, 2019.&nbsp\; Matthew Brown from Jackson Lewis P.C. will discuss the requirements of these Ordinances and how your businesses can best prepare to comply with them.&nbsp\; The presentation is meant for all Chamber members.&nbsp\; Attorney participants will also receive CLE credit.&nbsp\; Lunch will be provided.
LOCATION:Chamber Office 3rd Floor Conference Room 2222 Chestnut Avenue Glenview
UID:e.434.10083
SEQUENCE:3
DTSTAMP:20260425T035124Z
URL:http://business.glenviewchamber.com/events/details/lunch-learn-how-your-business-can-prepare-for-cook-county-minimum-wage-sick-leave-ordinances-10083
END:VEVENT

END:VCALENDAR
