BEGIN:VCALENDAR
VERSION:2.0
PRODID:-//ChamberMaster//Event Calendar 2.0//EN
METHOD:PUBLISH
X-PUBLISHED-TTL:P3D
REFRESH-INTERVAL:P3D
CALSCALE:GREGORIAN
BEGIN:VEVENT
DTSTART:20190328T164500Z
DTEND:20190328T180000Z
X-MICROSOFT-CDO-ALLDAYEVENT:FALSE
SUMMARY:Lunch & Learn - Managing the Complexities of Sick Pay Ordinance
DESCRIPTION:On February 7\, 2019\, the Village Trustees voted to opt back into the Cook County Sick Leave Ordinance\, effective July 1\, 2019.  The Ordinance will apply to all Glenview businesses that employ at least one covered employee.  Also\, on February 19\, 2019\, Illinois passed a law raising the minimum wage in Illinois and making other important changes to Illinois's minimum wage law.  To help its members prepare for the July 1\, 2019 effective date for the Cook County Sick Leave Ordinance and also the changes to the Illinois minimum wage law\, the Chamber is hosting a second lunch and learn presentation on the topic on March 28\, 2019.  If you were unable to attend the first presentation on this topic in February\, this is an opportunity to hear Matthew Brown and Jody Kahn Mason from Jackson Lewis P.C. discuss the requirements of these laws and how your businesses can best prepare to comply with them.  Lunch will be provided.
X-ALT-DESC;FMTTYPE=text/html:<span style="color:#1F497D\;"><span style="font-family:calibri\,sans-serif\;"><span style="font-size:11.0pt\;">On February 7\, 2019\, the Village Trustees voted to opt back into the Cook County Sick Leave Ordinance\, effective July 1\, 2019.&nbsp\; The Ordinance will apply to all Glenview businesses that employ at least one covered employee.&nbsp\; Also\, on February 19\, 2019\, Illinois passed a law raising the minimum wage in Illinois and making other important changes to Illinois&rsquo\;s minimum wage law.&nbsp\; To help its members prepare for the July 1\, 2019 effective date for the Cook County Sick Leave Ordinance and also the changes to the Illinois minimum wage law\, the Chamber is hosting a second lunch and learn presentation on the topic on March 28\, 2019.&nbsp\; If you were unable to attend the first presentation on this topic in February\, this is an opportunity to hear Matthew Brown and Jody Kahn Mason from Jackson Lewis P.C. discuss the requirements of these laws and how your businesses can best prepare to comply with them.&nbsp\; Lunch will be provided.</span></span></span>
LOCATION:Chamber Office 3rd Floor Conference Room 2222 Chestnut Avenue Glenview
UID:e.434.10107
SEQUENCE:3
DTSTAMP:20260425T035107Z
URL:http://business.glenviewchamber.com/events/details/lunch-learn-managing-the-complexities-of-sick-pay-ordinance-10107
END:VEVENT

END:VCALENDAR
