BEGIN:VCALENDAR
VERSION:2.0
PRODID:-//ChamberMaster//Event Calendar 2.0//EN
METHOD:PUBLISH
X-PUBLISHED-TTL:P3D
REFRESH-INTERVAL:P3D
CALSCALE:GREGORIAN
BEGIN:VEVENT
DTSTART;VALUE=DATE:20190219
DTEND;VALUE=DATE:20190220
TRANSP:TRANSPARENT
X-MICROSOFT-CDO-ALLDAYEVENT:TRUE
SUMMARY:Make Room for TRUMAN
DESCRIPTION:For over 50 years\, the Men and Women's Association of Aurora Advocate Lutheran General Hospital has supported the patients\, families and community.  Our mission has been and still is to provide philanthropic support for programs and services for the hospital.  We have funded various Health & Wellness Programs\, Campus Growth\, Scholarships and Education.  Here is a brief listing of some of the grants we support:  Maine Township D207 School Based Health Center\, Older Adult Services\, Safe Patient Handling and Movement\, Pediatric Celiac Disease\, Adult Down Syndrome Center\, Peds in the Weeds\, Autism Treatment Program\, Trauma Services and Spiritual Care.  In the past 25 years alone\, the MWA has funded over $1.2M in grants.\n\nWe are a hard working all volunteer based board with over 50 members.  100% of all our fund raising efforts go directly to support program and services at the hospital for the community.
X-ALT-DESC;FMTTYPE=text/html:For over 50 years\, the Men and Women&#39\;s Association of Aurora Advocate Lutheran General Hospital has supported the patients\, families and community.&nbsp\; Our mission has been and still is to provide philanthropic support for programs and services for the hospital.&nbsp\; We have funded various Health &amp\; Wellness Programs\, Campus Growth\, Scholarships and Education.&nbsp\; Here is a brief listing of some of the grants we support:&nbsp\; Maine Township D207 School Based Health Center\, Older Adult Services\, Safe Patient Handling and Movement\, Pediatric Celiac Disease\, Adult Down Syndrome Center\, Peds in the Weeds\, Autism Treatment Program\, Trauma Services and Spiritual Care.&nbsp\; In the past 25 years alone\, the MWA has funded over $1.2M in grants.<br />\nWe are a hard working all volunteer based board with over 50 members.&nbsp\; 100% of all our fund raising efforts go directly to support program and services at the hospital for the community.<br />\n<br />\n
LOCATION:Come Dine and Donate on Tuesday Feb 19th at Make Room for TRUMAN 5500 Touhy Ave Park Ridge
UID:e.434.10093
SEQUENCE:3
DTSTAMP:20260425T022447Z
URL:http://business.glenviewchamber.com/events/details/make-room-for-truman-10093
END:VEVENT

END:VCALENDAR
