BEGIN:VCALENDAR
VERSION:2.0
PRODID:-//ChamberMaster//Event Calendar 2.0//EN
METHOD:PUBLISH
X-PUBLISHED-TTL:P3D
REFRESH-INTERVAL:P3D
CALSCALE:GREGORIAN
BEGIN:VEVENT
DTSTART:20251005T173000Z
DTEND:20251005T183000Z
X-MICROSOFT-CDO-ALLDAYEVENT:FALSE
SUMMARY:Make & Take Youth Art Workshops: Halloween Decoration
DESCRIPTION:Get crafty for the holidays! In this seasonal art class\, kids will create special keepsakes they can proudly take home. Each session features a themed project. A fun way to celebrate creativity and give with love! (Grades K-8)
X-ALT-DESC;FMTTYPE=text/html:Get crafty for the holidays! In this seasonal art class\, kids will create special keepsakes they can proudly take home. Each session features a themed project. A fun way to celebrate creativity and give with love! (Grades K-8)
LOCATION:North Suburban YMCA 2705 Techny Rd. Northbrook. IL 60062
UID:e.434.11265
SEQUENCE:3
DTSTAMP:20260420T073757Z
URL:http://business.glenviewchamber.com/events/details/make-take-youth-art-workshops-halloween-decoration-11265
END:VEVENT

END:VCALENDAR
