BEGIN:VCALENDAR
VERSION:2.0
PRODID:-//ChamberMaster//Event Calendar 2.0//EN
METHOD:PUBLISH
X-PUBLISHED-TTL:P3D
REFRESH-INTERVAL:P3D
CALSCALE:GREGORIAN
BEGIN:VEVENT
DTSTART:20251015T221500Z
DTEND:20251015T231500Z
X-MICROSOFT-CDO-ALLDAYEVENT:FALSE
SUMMARY:Maker Youth Art Workshop: Faux Wood Burning
DESCRIPTION:Get the look of wood burning without the flame! Using safe tools and techniques\, you'll design and etch intricate patterns or images onto wood-like surfaces. (Grades 4-8) Workshop runs for 4 weeks on Wednesdays from Oct. 8th-29th.
X-ALT-DESC;FMTTYPE=text/html:Get the look of wood burning without the flame! Using safe tools and techniques\, you&rsquo\;ll design and etch intricate patterns or images onto wood-like surfaces. (Grades 4-8) Workshop runs for 4 weeks on Wednesdays from Oct. 8th-29th.
LOCATION:North Suburban YMCA 2705 Techny Rd. Northbrook. IL 60062
UID:e.434.11274
SEQUENCE:3
DTSTAMP:20260420T061329Z
URL:http://business.glenviewchamber.com/events/details/maker-youth-art-workshop-faux-wood-burning-10-15-2025-11274
END:VEVENT

END:VCALENDAR
