BEGIN:VCALENDAR
VERSION:2.0
PRODID:-//ChamberMaster//Event Calendar 2.0//EN
METHOD:PUBLISH
X-PUBLISHED-TTL:P3D
REFRESH-INTERVAL:P3D
CALSCALE:GREGORIAN
BEGIN:VEVENT
DTSTART:20251126T231500Z
DTEND:20251127T001500Z
X-MICROSOFT-CDO-ALLDAYEVENT:FALSE
SUMMARY:Maker Youth Art Workshop: Needle Felting
DESCRIPTION:Workshop runs every Wednesday from Nov. 5th-26th. Learn the art of needle felting as you sculpt soft wool into fun\, fuzzy creations. This tactile craft is perfect for making ornaments\, animals\, or small seasonal sculptures. (Grades 4-8)
X-ALT-DESC;FMTTYPE=text/html:Workshop runs every Wednesday from Nov. 5th-26th. Learn the art of needle felting as you sculpt soft wool into fun\, fuzzy creations. This tactile craft is perfect for making ornaments\, animals\, or small seasonal sculptures. (Grades 4-8)
LOCATION:North Suburban YMCA 2705 Techny Rd. Northbrook. IL 60062
UID:e.434.11280
SEQUENCE:3
DTSTAMP:20260422T175702Z
URL:http://business.glenviewchamber.com/events/details/maker-youth-art-workshop-needle-felting-11-26-2025-11280
END:VEVENT

END:VCALENDAR
