BEGIN:VCALENDAR
VERSION:2.0
PRODID:-//ChamberMaster//Event Calendar 2.0//EN
METHOD:PUBLISH
X-PUBLISHED-TTL:P3D
REFRESH-INTERVAL:P3D
CALSCALE:GREGORIAN
BEGIN:VEVENT
DTSTART:20250924T221500Z
DTEND:20250924T231500Z
X-MICROSOFT-CDO-ALLDAYEVENT:FALSE
SUMMARY:Maker Youth Art Workshop: Printmaking
DESCRIPTION:Workshop runs for 4 weeks on Wednesdays. Learn how to design\, carve\, and press your own unique prints. Explore patterns\, textures\, and color layering to create frame-worthy art. (Grades 4-8)
X-ALT-DESC;FMTTYPE=text/html:Workshop runs for 4 weeks on Wednesdays. Learn how to design\, carve\, and press your own unique prints. Explore patterns\, textures\, and color layering to create frame-worthy art. (Grades 4-8)
LOCATION:North Suburban YMCA 2705 Techny Rd. Northbrook. IL 60062
UID:e.434.11284
SEQUENCE:3
DTSTAMP:20260420T073900Z
URL:http://business.glenviewchamber.com/events/details/maker-youth-art-workshop-printmaking-09-24-2025-11284
END:VEVENT

END:VCALENDAR
