BEGIN:VCALENDAR
VERSION:2.0
PRODID:-//ChamberMaster//Event Calendar 2.0//EN
METHOD:PUBLISH
X-PUBLISHED-TTL:P3D
REFRESH-INTERVAL:P3D
CALSCALE:GREGORIAN
BEGIN:VEVENT
DTSTART:20171205T220000Z
DTEND:20171206T020000Z
X-MICROSOFT-CDO-ALLDAYEVENT:FALSE
SUMMARY:Mani & Pedi Party at Teddie Kossof Salon
DESCRIPTION:Mani & Pedi Party at Teddie Kossof Salon on December 5 from 4-8 p.m. \n\nThis event will be fully catered including a full Dinner\, Stocked Bar\, Desserts and Raffle Prizes!!  Treat yourself to spa services during the event. \n\nManicure: $20\n\nPedicure: $40
X-ALT-DESC;FMTTYPE=text/html:Mani &amp\; Pedi Party at Teddie&nbsp\;Kossof Salon on December 5 from 4-8 p.m.&nbsp\;<br />\n<span style="font-family:calibri\,sans-serif\;"><span style="font-size:11.0pt\;">This event will be fully catered including a full Dinner\, Stocked Bar\, Desserts and Raffle Prizes!!&nbsp\; Treat yourself to spa services during the event.&nbsp\;</span></span><br />\nManicure: $20<br />\nPedicure: $40
LOCATION:Teddie Kossof Salon 281 Waukegan Road Northfield\, IL
UID:e.434.7273
SEQUENCE:3
DTSTAMP:20260425T203011Z
URL:http://business.glenviewchamber.com/events/details/mani-pedi-party-at-teddie-kossof-salon-7273
END:VEVENT

END:VCALENDAR
