BEGIN:VCALENDAR
VERSION:2.0
PRODID:-//ChamberMaster//Event Calendar 2.0//EN
METHOD:PUBLISH
X-PUBLISHED-TTL:P3D
REFRESH-INTERVAL:P3D
CALSCALE:GREGORIAN
BEGIN:VEVENT
DTSTART:20190127T003000Z
DTEND:20190127T013000Z
X-MICROSOFT-CDO-ALLDAYEVENT:FALSE
SUMMARY:“Mearra – Selkie From the Sea” at Glenview Community Church
DESCRIPTION:Bring your family to "Mearra   Selkie From the Sea" on Saturday\, January 26\, at 6:30 p.m. The Simple Gifts Concert Series presents Linda Marie Smith and her talented band of eight musicians in this Celtic fairy tale fantasy. The 60 minute show is presented through original songs\, theatrical lighting and animated projections. Ms. Smith's folk-rock style has been compared to Natalie Merchant and Sarah McLachlan. "Mearra" premiered at the Irish American Heritage Center and was televised on Chicago's PBS station WYCC in 2015. Visit http://www.lindamsmith.com/mearra/ to watch a video clip of the show. A free will donation benefits the concert series. Glenview Community Church is located at 1000 Elm St. in Glenview. For more information visit gccmusic.org or call the church office at 847-724-2210.
X-ALT-DESC;FMTTYPE=text/html:Bring your family to &ldquo\;Mearra &ndash\; Selkie From the Sea&rdquo\; on Saturday\, January 26\, at 6:30 p.m. The Simple Gifts Concert Series presents Linda Marie Smith and her talented band of eight musicians in this Celtic fairy tale fantasy. The 60 minute show is presented through original songs\, theatrical lighting and animated projections. Ms. Smith&rsquo\;s folk-rock style has been compared to Natalie Merchant and Sarah McLachlan. &ldquo\;Mearra&rdquo\; premiered at the Irish American Heritage Center and was televised on Chicago&rsquo\;s PBS station WYCC in 2015. Visit http://www.lindamsmith.com/mearra/ to watch a video clip of the show. A free will donation benefits the concert series. Glenview Community Church is located at 1000 Elm St. in Glenview. For more information visit gccmusic.org or call the church office at 847-724-2210.
LOCATION:Glenview Community Church\, 1000 Elm St.
UID:e.434.10062
SEQUENCE:3
DTSTAMP:20260425T035247Z
URL:http://business.glenviewchamber.com/events/details/mearra-selkie-from-the-sea-at-glenview-community-church-10062
END:VEVENT

END:VCALENDAR
