BEGIN:VCALENDAR
VERSION:2.0
PRODID:-//ChamberMaster//Event Calendar 2.0//EN
METHOD:PUBLISH
X-PUBLISHED-TTL:P3D
REFRESH-INTERVAL:P3D
CALSCALE:GREGORIAN
BEGIN:VEVENT
DTSTART:20170727T233000Z
DTEND:20170728T013000Z
X-MICROSOFT-CDO-ALLDAYEVENT:FALSE
SUMMARY:Meet & Mingle Emerald Place at Anthem Memory Care Community
DESCRIPTION:Meet & Mingle 6:30 - 8:30 pm\n\nWine and light hors d'oeuvres will be served.\n\n\n\nPresentation 7:00-7:30 pm\n\nAn introduction of Emerald Place and Anthem Memory Care
X-ALT-DESC;FMTTYPE=text/html:Meet &amp\; Mingle 6:30 - 8:30 pm<br />\nWine and light hors d&#39\;oeuvres will be served.<br />\n<br />\nPresentation 7:00-7:30 pm<br />\nAn introduction of Emerald Place and Anthem Memory Care<br />\n&nbsp\;
LOCATION:Immanuel Lutheran Church 1850 Chestnut Avenue Glenview\, IL
UID:e.434.7271
SEQUENCE:3
DTSTAMP:20260426T030701Z
URL:http://business.glenviewchamber.com/events/details/meet-mingle-emerald-place-at-anthem-memory-care-community-7271
END:VEVENT

END:VCALENDAR
