BEGIN:VCALENDAR
VERSION:2.0
PRODID:-//ChamberMaster//Event Calendar 2.0//EN
METHOD:PUBLISH
X-PUBLISHED-TTL:P3D
REFRESH-INTERVAL:P3D
CALSCALE:GREGORIAN
BEGIN:VEVENT
DTSTART:20190220T133000Z
DTEND:20190220T150000Z
X-MICROSOFT-CDO-ALLDAYEVENT:FALSE
SUMMARY:Mega Connect Multi-Chamber Networking Breakfast
DESCRIPTION:Multi-Chamber Networking Breakfast\n\n\n\nWith the Buffalo Grove/Lincolnshire\, Deerfield/Bannockburn/Riverwoods\, Des Plaines\, Evanston\, Glencoe\, Glenview\, Lincolnwood\,Morton Grove\, Mount Prospect\, Niles\, Northrbook\, Park Ridge\, Skokie\, \n\nWheeling/Prospect Heights\, Wilmette/Kenilworth and Winnetka-Northfield Chambers of Commerce\n\n \n\nRSVP & Payment Due by 4:30 p.m. on Tuesday\, February 12\, 2019\n\nMember Pre-Registration Fee: $30 (includes breakfast)\n\nProspective Members & Walk-In Registration: $40 (includes breakfast)\n\nWalk-ins strongly discouraged and may not be accommodated!\n\n  \n\nMultiply your networking potential! Members looking for a productive networking experience will enjoy the structured format of this program\, which gives each participant an opportunity to speak to a receptive audience about his/her company's products and services. The event will begin with informal networking over a hot buffet breakfast. Attendees will then be divided into small groups at assigned tables where everyone will give 2-minute presentations on their companies. Following will be an additional presentation to a second and third group of participants. In addition\, everyone will receive a contact list of pre-registered participants. Don't miss this unique opportunity to expand your reach and resources!
X-ALT-DESC;FMTTYPE=text/html:<span style="font-size:14px\;"><strong><em><span style="font-family:calibri\,sans-serif\;">Multi-Chamber Networking Breakfast</span></em></strong></span><br />\n<br />\n<span style="font-family:calibri\,sans-serif\;">With the Buffalo Grove/Lincolnshire\, Deerfield/Bannockburn/Riverwoods\, Des Plaines\, Evanston\,&nbsp\;</span><span style="font-family:calibri\,sans-serif\;">Glencoe\, Glenview\, Lincolnwood\,Morton Grove\, Mount Prospect\, Niles\, Northrbook\, Park Ridge\, Skokie\, </span><br />\n<span style="font-family:calibri\,sans-serif\;">Wheeling/Prospect Heights\, Wilmette/Kenilworth and Winnetka-Northfield Chambers of Commerce</span><br />\n&nbsp\;<br />\n<strong><span style="color:black\;"><span style="font-family:calibri\,sans-serif\;"><span style="font-size:14.0pt\;">RSVP &amp\; Payment Due by 4:30 p.m. on Tuesday\, February 12\, 2019</span></span></span></strong><br />\n<span style="color:black\;"><span style="font-family:calibri\,sans-serif\;"><span style="font-size:14.0pt\;">Member Pre-Registration Fee: $30 (includes breakfast)</span></span></span><br />\n<span style="color:black\;"><span style="font-family:calibri\,sans-serif\;"><span style="font-size:14.0pt\;">Prospective Members &amp\; Walk-In Registration: $40 (includes breakfast)</span></span></span><br />\n<strong><em><span style="color:black\;"><span style="font-family:calibri\,sans-serif\;"><span style="font-size:16.0pt\;">Walk-ins strongly discouraged and may not be accommodated!</span></span></span></em></strong><br />\n&nbsp\;&nbsp\;<br />\n<span style="font-family:calibri\,sans-serif\;"><span style="font-size:10.0pt\;">Multiply your networking potential! Members looking for a productive networking experience will enjoy the structured format of this program\, which gives each participant an opportunity to speak to a receptive audience about his/her company&rsquo\;s products and services. The event will begin with informal networking over a hot buffet breakfast. Attendees will then be divided into small groups at assigned tables where everyone will give 2-minute presentations on their companies. Following will be an additional presentation to a second and third group of participants. In addition\, everyone will receive a contact list of pre-registered participants. Don&rsquo\;t miss this unique opportunity to expand your reach and resources!&nbsp\; </span></span><br />\n&nbsp\;<br />\n&nbsp\;
LOCATION:DoubleTree by Hilton Chicago North Shore\, 9599 N. Skokie Blvd.\, Skokie Illinois 60077
UID:e.434.10058
SEQUENCE:3
DTSTAMP:20260425T034653Z
URL:http://business.glenviewchamber.com/events/details/mega-connect-multi-chamber-networking-breakfast-10058
END:VEVENT

END:VCALENDAR
