BEGIN:VCALENDAR
VERSION:2.0
PRODID:-//ChamberMaster//Event Calendar 2.0//EN
METHOD:PUBLISH
X-PUBLISHED-TTL:P3D
REFRESH-INTERVAL:P3D
CALSCALE:GREGORIAN
BEGIN:VEVENT
DTSTART:20170711T200000Z
DTEND:20170711T220000Z
X-MICROSOFT-CDO-ALLDAYEVENT:FALSE
SUMMARY:Membership Drive Around Town
DESCRIPTION:MEMBERSHIP DRIVE AROUND TOWN\n\nAmbassador Committee will have the opportunity to meet and greet potential members in the Glenview Business Community
X-ALT-DESC;FMTTYPE=text/html:MEMBERSHIP DRIVE AROUND TOWN<br />\nAmbassador Committee will have the opportunity to meet and greet potential members in the Glenview Business Community
LOCATION:The drive will begin at the Chamber Office 2222 Chestnut\, Glenview
UID:e.434.7265
SEQUENCE:3
DTSTAMP:20260426T030521Z
URL:http://business.glenviewchamber.com/events/details/membership-drive-around-town-7265
END:VEVENT

END:VCALENDAR
