BEGIN:VCALENDAR
VERSION:2.0
PRODID:-//ChamberMaster//Event Calendar 2.0//EN
METHOD:PUBLISH
X-PUBLISHED-TTL:P3D
REFRESH-INTERVAL:P3D
CALSCALE:GREGORIAN
BEGIN:VEVENT
DTSTART;VALUE=DATE:20190131
DTEND;VALUE=DATE:20190201
TRANSP:TRANSPARENT
X-MICROSOFT-CDO-ALLDAYEVENT:TRUE
SUMMARY:Membership Fees Due Today
DESCRIPTION:Annual Membership Dues should be paid in full by January 31\,2019.\n\nClick "Register Now" to pay online.
X-ALT-DESC;FMTTYPE=text/html:Annual Membership Dues should be paid in full by January 31\,2019.<br />\nClick <span style="color:#8B4513\;"><strong>&quot\;Register Now&quot\;</strong></span> to pay online.
LOCATION:Login to view your directory listing! If you don't remember your login? Contact Meghan 847-724-0900
UID:e.434.10047
SEQUENCE:3
DTSTAMP:20260425T034825Z
URL:http://business.glenviewchamber.com/events/details/membership-fees-due-today-10047
END:VEVENT

END:VCALENDAR
