BEGIN:VCALENDAR
VERSION:2.0
PRODID:-//ChamberMaster//Event Calendar 2.0//EN
METHOD:PUBLISH
X-PUBLISHED-TTL:P3D
REFRESH-INTERVAL:P3D
CALSCALE:GREGORIAN
BEGIN:VEVENT
DTSTART:20251111T223000Z
DTEND:20251111T233000Z
X-MICROSOFT-CDO-ALLDAYEVENT:FALSE
SUMMARY:Mind In Motions: Chemical Creations
DESCRIPTION:Make your own UV bracelet to take home\, see and touch amazing magic sand\, and watch snow form and take some home. (Grades K-5)
X-ALT-DESC;FMTTYPE=text/html:Make your own UV bracelet to take home\, see and touch amazing magic sand\, and watch snow form&mdash\;and take some home. (Grades K-5)
LOCATION:North Suburban YMCA 2705 Techny Rd. Northbrook. IL 60062
UID:e.434.11246
SEQUENCE:3
DTSTAMP:20260422T192617Z
URL:http://business.glenviewchamber.com/events/details/mind-in-motions-chemical-creations-11246
END:VEVENT

END:VCALENDAR
