BEGIN:VCALENDAR
VERSION:2.0
PRODID:-//ChamberMaster//Event Calendar 2.0//EN
METHOD:PUBLISH
X-PUBLISHED-TTL:P3D
REFRESH-INTERVAL:P3D
CALSCALE:GREGORIAN
BEGIN:VEVENT
DTSTART:20251015T213000Z
DTEND:20251015T223000Z
X-MICROSOFT-CDO-ALLDAYEVENT:FALSE
SUMMARY:Mind In Motions: Outer Space & Physics Fun
DESCRIPTION:See a real meteorite\, watch a rocket soar 50 feet\, watch an egg get sucked into a bottle\, and make and take home your own planet. (Grades K-5)
X-ALT-DESC;FMTTYPE=text/html:See a real meteorite\, watch a rocket soar 50 feet\, watch an egg get sucked into a bottle\, and make and take home your own planet. (Grades K-5)
LOCATION:North Suburban YMCA 2705 Techny Rd. Northbrook. IL 60062
UID:e.434.11245
SEQUENCE:3
DTSTAMP:20260420T043237Z
URL:http://business.glenviewchamber.com/events/details/mind-in-motions-outer-space-physics-fun-11245
END:VEVENT

END:VCALENDAR
