BEGIN:VCALENDAR
VERSION:2.0
PRODID:-//ChamberMaster//Event Calendar 2.0//EN
METHOD:PUBLISH
X-PUBLISHED-TTL:P3D
REFRESH-INTERVAL:P3D
CALSCALE:GREGORIAN
BEGIN:VEVENT
DTSTART:20251211T223000Z
DTEND:20251211T233000Z
X-MICROSOFT-CDO-ALLDAYEVENT:FALSE
SUMMARY:Mindfulness Workshops: Break Free from “If...Then” Thinking!
DESCRIPTION:Kids break free from "if then" thinking through stories\, crafts\, and activities taking action toward their dreams.
X-ALT-DESC;FMTTYPE=text/html:Kids break free from &ldquo\;if&hellip\;then&rdquo\; thinking through stories\, crafts\, and activities&mdash\;taking action toward their dreams.
LOCATION:North Suburban YMCA 2705 Techny Rd. Northbrook. IL 60062
UID:e.434.11260
SEQUENCE:3
DTSTAMP:20260421T125633Z
URL:http://business.glenviewchamber.com/events/details/mindfulness-workshops-break-free-from-if-then-thinking-11260
END:VEVENT

END:VCALENDAR
