BEGIN:VCALENDAR
VERSION:2.0
PRODID:-//ChamberMaster//Event Calendar 2.0//EN
METHOD:PUBLISH
X-PUBLISHED-TTL:P3D
REFRESH-INTERVAL:P3D
CALSCALE:GREGORIAN
BEGIN:VEVENT
DTSTART:20251106T223000Z
DTEND:20251106T233000Z
X-MICROSOFT-CDO-ALLDAYEVENT:FALSE
SUMMARY:Mindfulness Workshops: How Your Mind Shapes Your World
DESCRIPTION:Kids learn how thoughts shape life through stories\, crafts\, and activities building confidence and a success-focused mindset.
X-ALT-DESC;FMTTYPE=text/html:Kids learn how thoughts shape life through stories\, crafts\, and activities&mdash\;building confidence and a success-focused mindset.
LOCATION:North Suburban YMCA 2705 Techny Rd. Northbrook. IL 60062
UID:e.434.11259
SEQUENCE:3
DTSTAMP:20260422T191245Z
URL:http://business.glenviewchamber.com/events/details/mindfulness-workshops-how-your-mind-shapes-your-world-11259
END:VEVENT

END:VCALENDAR
